BEGIN:VCALENDAR
VERSION:2.0
PRODID:-//canberramalayalee - ECPv6.13.2.1//NONSGML v1.0//EN
CALSCALE:GREGORIAN
METHOD:PUBLISH
X-WR-CALNAME:canberramalayalee
X-ORIGINAL-URL:https://canberramalayalee.org
X-WR-CALDESC:Events for canberramalayalee
REFRESH-INTERVAL;VALUE=DURATION:PT1H
X-Robots-Tag:noindex
X-PUBLISHED-TTL:PT1H
BEGIN:VTIMEZONE
TZID:Australia/Sydney
BEGIN:STANDARD
TZOFFSETFROM:+1100
TZOFFSETTO:+1000
TZNAME:AEST
DTSTART:20250405T160000
END:STANDARD
BEGIN:DAYLIGHT
TZOFFSETFROM:+1000
TZOFFSETTO:+1100
TZNAME:AEDT
DTSTART:20251004T160000
END:DAYLIGHT
END:VTIMEZONE
BEGIN:VEVENT
DTSTART;TZID=Australia/Sydney:20250623T080000
DTEND;TZID=Australia/Sydney:20250623T170000
DTSTAMP:20260424T162340
CREATED:20250623T080442Z
LAST-MODIFIED:20250624T113219Z
UID:96-1750665600-1750698000@canberramalayalee.org
SUMMARY:CMA Cultural Night 2025
DESCRIPTION:Kerala historically known as Keralam\, is an Indian state in South India on the Malabar Coast.
URL:https://canberramalayalee.org/event/cma-cultural-night-2025/
CATEGORIES:New Events
ATTACH;FMTTYPE=image/jpeg:https://canberramalayalee.org/wp-content/uploads/2025/06/1496218434_img3.jpg
END:VEVENT
BEGIN:VEVENT
DTSTART;TZID=Australia/Sydney:20250623T080000
DTEND;TZID=Australia/Sydney:20250623T170000
DTSTAMP:20260424T162340
CREATED:20250624T113121Z
LAST-MODIFIED:20250624T113121Z
UID:493-1750665600-1750698000@canberramalayalee.org
SUMMARY:CMA Basketball 2025
DESCRIPTION:Kerala historically known as Keralam\, is an Indian state in South India on the Malabar Coast.
URL:https://canberramalayalee.org/event/cma-basketball-2025/
CATEGORIES:New Events
ATTACH;FMTTYPE=image/jpeg:https://canberramalayalee.org/wp-content/uploads/2025/06/1496218434_img3.jpg
END:VEVENT
BEGIN:VEVENT
DTSTART;TZID=Australia/Sydney:20250623T080000
DTEND;TZID=Australia/Sydney:20250623T170000
DTSTAMP:20260424T162340
CREATED:20250624T113418Z
LAST-MODIFIED:20250624T113418Z
UID:501-1750665600-1750698000@canberramalayalee.org
SUMMARY:CMA Kappa Cup 2025
DESCRIPTION:Kerala historically known as Keralam\, is an Indian state in South India on the Malabar Coast.
URL:https://canberramalayalee.org/event/cma-kappa-cup-2025/
CATEGORIES:New Events
ATTACH;FMTTYPE=image/jpeg:https://canberramalayalee.org/wp-content/uploads/2025/06/1496218434_img3.jpg
END:VEVENT
BEGIN:VEVENT
DTSTART;TZID=Australia/Sydney:20250623T080000
DTEND;TZID=Australia/Sydney:20250623T170000
DTSTAMP:20260424T162340
CREATED:20250624T113423Z
LAST-MODIFIED:20250624T113423Z
UID:496-1750665600-1750698000@canberramalayalee.org
SUMMARY:CMA Kappa Cup 2025
DESCRIPTION:Kerala historically known as Keralam\, is an Indian state in South India on the Malabar Coast.
URL:https://canberramalayalee.org/event/cma-kappa-cup-2025-2/
CATEGORIES:New Events
ATTACH;FMTTYPE=image/jpeg:https://canberramalayalee.org/wp-content/uploads/2025/06/1496218434_img3.jpg
END:VEVENT
BEGIN:VEVENT
DTSTART;TZID=Australia/Sydney:20250623T080000
DTEND;TZID=Australia/Sydney:20250623T170000
DTSTAMP:20260424T162340
CREATED:20250624T113437Z
LAST-MODIFIED:20260219T125313Z
UID:502-1750665600-1750698000@canberramalayalee.org
SUMMARY:CMA T20 Cricket  2025
DESCRIPTION:Kerala historically known as Keralam\, is an Indian state in South India on the Malabar Coast.
URL:https://canberramalayalee.org/event/cma-t20-cricket-2025/
CATEGORIES:New Events
ATTACH;FMTTYPE=image/jpeg:https://canberramalayalee.org/wp-content/uploads/2025/06/1496218434_img3.jpg
END:VEVENT
END:VCALENDAR